BEGIN:VCALENDAR
VERSION:2.0
PRODID:SchoolNow
CALSCALE:GREGORIAN
BEGIN:VEVENT
UID:dfd35468-cce1-11ee-9832-0a58a9feac02
DTSTAMP:20240216T154138Z
SUMMARY:CDD Board Meeting Apr. 2023 - Canceled
LOCATION:Hampton Inn & Suites by Hilton - Tampa/Wesley Chapel 2740 Cypress 
 Ridge Blvd.\, Wesley Chapel\, Florida 33544
URL;VALUE=URI:https://www.abbottsquarecdd.net/calendar/5341505/cdd-board-me
 eting-apr-2023-canceled
DTSTART:20230405T173000Z
DTEND:20230405T183000Z
END:VEVENT
END:VCALENDAR
