BEGIN:VCALENDAR
VERSION:2.0
PRODID:SchoolNow
CALSCALE:GREGORIAN
BEGIN:VEVENT
UID:9d909c3c-cce1-11ee-bae3-02a7de2c9dbb
DTSTAMP:20240216T154209Z
SUMMARY:CDD Board Meeting May 2023
LOCATION:Hampton Inn & Suites by Hilton - Tampa/Wesley Chapel 2740 Cypress 
 Ridge Blvd.\, Wesley Chapel\, Florida 33544
URL;VALUE=URI:https://www.abbottsquarecdd.net/calendar/5341502/cdd-board-me
 eting-may-2023
DTSTART:20230503T173000Z
DTEND:20230503T183000Z
ATTACH;FILENAME=2023-05-03 ASCDD-agenda.pdf;FMTTYPE=application/pdf:https:/
 /campussuite-storage.s3.amazonaws.com/prod/1559209/16d82d8e-c775-11ee-b7c9
 -0e3043bec677/2743207/7fdad08a-cc47-11ee-aaa5-0af5e5af852b/file/2023-05-03
  ASCDD-agenda.pdf
END:VEVENT
END:VCALENDAR
