BEGIN:VCALENDAR
VERSION:2.0
PRODID:SchoolNow
CALSCALE:GREGORIAN
BEGIN:VEVENT
UID:7b69caac-cce1-11ee-9e62-02a7de2c9dbb
DTSTAMP:20240216T153850Z
SUMMARY:CDD Board Meeting Jun. 2023 - Canceled
LOCATION:Hampton Inn & Suites by Hilton - Tampa/Wesley Chapel 2740 Cypress 
 Ridge Blvd.\, Wesley Chapel\, Florida 33544
URL;VALUE=URI:https://www.abbottsquarecdd.net/calendar/5341501/cdd-board-me
 eting-jun-2023-canceled
DTSTART:20230607T173000Z
DTEND:20230607T183000Z
END:VEVENT
END:VCALENDAR
