BEGIN:VCALENDAR
VERSION:2.0
PRODID:SchoolNow
CALSCALE:GREGORIAN
BEGIN:VEVENT
UID:451856d0-cce1-11ee-961d-0e5e282d4811
DTSTAMP:20240216T153719Z
SUMMARY:CDD Board Meeting Jul. 2023
LOCATION:Hampton Inn & Suites by Hilton - Tampa/Wesley Chapel 2740 Cypress 
 Ridge Blvd.\, Wesley Chapel\, Florida 33544
URL;VALUE=URI:https://www.abbottsquarecdd.net/calendar/5341493/cdd-board-me
 eting-jul-2023
DTSTART:20230705T173000Z
DTEND:20230705T183000Z
ATTACH;FILENAME=2023-07-05 ASCDD-agenda.pdf;FMTTYPE=application/pdf:https:/
 /campussuite-storage.s3.amazonaws.com/prod/1559209/16d82d8e-c775-11ee-b7c9
 -0e3043bec677/2743208/7fdad1ac-cc47-11ee-8aaa-0af5e5af852b/file/2023-07-05
  ASCDD-agenda.pdf
END:VEVENT
END:VCALENDAR
