BEGIN:VCALENDAR
VERSION:2.0
PRODID:SchoolNow
CALSCALE:GREGORIAN
BEGIN:VEVENT
UID:25745c0c-cce1-11ee-ad95-02a7de2c9dbb
DTSTAMP:20240216T154016Z
SUMMARY:CDD Board Meeting Aug. 2023 - Canceled
LOCATION:Hampton Inn & Suites by Hilton - Tampa/Wesley Chapel 2740 Cypress 
 Ridge Blvd.\, Wesley Chapel\, Florida 33544
URL;VALUE=URI:https://www.abbottsquarecdd.net/calendar/5341492/cdd-board-me
 eting-aug-2023-canceled
DTSTART:20230802T173000Z
DTEND:20230802T183000Z
END:VEVENT
END:VCALENDAR
