BEGIN:VCALENDAR
VERSION:2.0
PRODID:SchoolNow
CALSCALE:GREGORIAN
BEGIN:VEVENT
UID:f9b58d52-cce0-11ee-9b04-0ad45d26e805
DTSTAMP:20240216T153512Z
SUMMARY:CDD Board Meeting Sept. 2023
LOCATION:Hampton Inn & Suites by Hilton - Tampa/Wesley Chapel 2740 Cypress 
 Ridge Blvd.\, Wesley Chapel\, Florida 33544
URL;VALUE=URI:https://www.abbottsquarecdd.net/calendar/5341491/cdd-board-me
 eting-sept-2023
DTSTART:20230906T173000Z
DTEND:20230906T183000Z
ATTACH;FILENAME=2023-09-06 ASCDD-agenda.pdf;FMTTYPE=application/pdf:https:/
 /campussuite-storage.s3.amazonaws.com/prod/1559209/16d82d8e-c775-11ee-b7c9
 -0e3043bec677/2743209/7fdad2b0-cc47-11ee-8696-0af5e5af852b/file/2023-09-06
  ASCDD-agenda.pdf
END:VEVENT
END:VCALENDAR
