BEGIN:VCALENDAR
VERSION:2.0
PRODID:SchoolNow
CALSCALE:GREGORIAN
BEGIN:VEVENT
UID:be9baa68-ca82-11ee-99aa-020a3744bdcd
DTSTAMP:20240304T155038Z
SUMMARY:CDD Board Meeting Mar. 2024
LOCATION:Inframark's Wesley Chapel office 2654 Cypress Ridge Rd. Suite 101\
 , Wesley Chapel\, Florida 33544
URL;VALUE=URI:https://www.abbottsquarecdd.net/calendar/5320417/cdd-board-me
 eting-mar-2024
DTSTART:20240306T183000Z
DTEND:20240306T193000Z
ATTACH;FILENAME=2024-03-06 Agenda Sheet.pdf;FMTTYPE=application/pdf:https:/
 /campussuite-storage.s3.amazonaws.com/prod/1559209/16d82d8e-c775-11ee-b7c9
 -0e3043bec677/2751070/ea45efae-da3e-11ee-91bb-0a58a9feac02/file/2024-03-06
  Agenda Sheet.pdf
ATTACH;FILENAME=2024-03-06 AS CDD AGENDA PACKAGE.pdf;FMTTYPE=application/pd
 f:https://campussuite-storage.s3.amazonaws.com/prod/1559209/16d82d8e-c775-
 11ee-b7c9-0e3043bec677/2751069/ea45e96e-da3e-11ee-b86e-0a58a9feac02/file/2
 024-03-06 AS CDD AGENDA PACKAGE.pdf
END:VEVENT
END:VCALENDAR
