BEGIN:VCALENDAR
VERSION:2.0
PRODID:SchoolNow
CALSCALE:GREGORIAN
BEGIN:VEVENT
UID:804faa02-ca82-11ee-83d2-0affcec41409
DTSTAMP:20240219T014706Z
SUMMARY:CDD Board Meeting Feb. 2024 - Canceled
LOCATION:Hampton Inn & Suites by Hilton - Tampa/Wesley Chapel 2740 Cypress 
 Ridge Blvd.\, Wesley Chapel\, Florida 33544
URL;VALUE=URI:https://www.abbottsquarecdd.net/calendar/5320416/cdd-board-me
 eting-feb-2024
DTSTART:20240207T230000Z
DTEND:20240208T000000Z
END:VEVENT
END:VCALENDAR
