BEGIN:VCALENDAR
VERSION:2.0
PRODID:SchoolNow
CALSCALE:GREGORIAN
BEGIN:VEVENT
UID:4fd10182-ca82-11ee-a88f-0a6967fc2177
DTSTAMP:20240219T014614Z
SUMMARY:CDD Board Meeting Jan. 2024 - Canceled
LOCATION:Hampton Inn & Suites by Hilton - Tampa/Wesley Chapel 2740 Cypress 
 Ridge Blvd.\, Wesley Chapel\, Florida 33544
URL;VALUE=URI:https://www.abbottsquarecdd.net/calendar/5320415/cdd-board-me
 eting-jan-2024
DTSTART:20240103T183000Z
DTEND:20240103T193000Z
END:VEVENT
END:VCALENDAR
