BEGIN:VCALENDAR
VERSION:2.0
PRODID:SchoolNow
CALSCALE:GREGORIAN
BEGIN:VEVENT
UID:2e3d596c-ca82-11ee-b0f8-02968f7ffbf1
DTSTAMP:20240213T152858Z
SUMMARY:CDD Board Meeting Dec. 2023
LOCATION:Hampton Inn & Suites by Hilton - Tampa/Wesley Chapel 2740 Cypress 
 Ridge Blvd.\, Wesley Chapel\, Florida 33544
URL;VALUE=URI:https://www.abbottsquarecdd.net/calendar/5320414/cdd-board-me
 eting-dec-2023
DTSTART:20231206T183000Z
DTEND:20231206T193000Z
ATTACH;FILENAME=2023-12-06 ASCDD-agenda.pdf;FMTTYPE=application/pdf:https:/
 /campussuite-storage.s3.amazonaws.com/prod/1559209/16d82d8e-c775-11ee-b7c9
 -0e3043bec677/2740549/51867410-ca84-11ee-9961-020a3744bdcd/file/2023-12-06
  ASCDD-agenda.pdf
END:VEVENT
END:VCALENDAR
