BEGIN:VCALENDAR
VERSION:2.0
PRODID:SchoolNow
CALSCALE:GREGORIAN
BEGIN:VEVENT
UID:0c32c78a-ca82-11ee-8104-0a58a9feac02
DTSTAMP:20240219T014517Z
SUMMARY:CDD Board Meeting Nov. 2023 - Canceled
LOCATION:Hampton Inn & Suites by Hilton - Tampa/Wesley Chapel 2740 Cypress 
 Ridge Blvd.\, Wesley Chapel\, Florida 33544
URL;VALUE=URI:https://www.abbottsquarecdd.net/calendar/5320413/cdd-board-me
 eting-nov-2023
DTSTART:20231101T173000Z
DTEND:20231101T183000Z
END:VEVENT
END:VCALENDAR
