BEGIN:VCALENDAR
VERSION:2.0
PRODID:SchoolNow
CALSCALE:GREGORIAN
BEGIN:VEVENT
UID:d62dfbfa-ca81-11ee-834c-02968f7ffbf1
DTSTAMP:20240213T152836Z
SUMMARY:CDD Board Meeting Oct. 2023
LOCATION:Hampton Inn & Suites by Hilton - Tampa/Wesley Chapel 2740 Cypress 
 Ridge Blvd.\, Wesley Chapel\, Florida 33544
URL;VALUE=URI:https://www.abbottsquarecdd.net/calendar/5320412/cdd-board-me
 eting-oct-2023
DTSTART:20231004T173000Z
DTEND:20231004T183000Z
ATTACH;FILENAME=2023-10-04 ASCDD-agenda.pdf;FMTTYPE=application/pdf:https:/
 /campussuite-storage.s3.amazonaws.com/prod/1559209/16d82d8e-c775-11ee-b7c9
 -0e3043bec677/2740548/51866b64-ca84-11ee-8a11-020a3744bdcd/file/2023-10-04
  ASCDD-agenda.pdf
END:VEVENT
END:VCALENDAR
